Workbook

Sheet anno 2026
B1: CALCOLO COMPENSI INDENNITA' DI DIREZIONE DSGA E SOSTITUTO DSGA | H1: ANNO 2026
B2: Aggiornato al CCNL Scuola 2025/27 - Nota MIM prot nr 18529 del 12/05/2025 - scenario 2 e 5
B3: Su posto non vacante e disponibile
B5: SOSTITUZIONE
B6: data inizio | C6: data fine | D6: giorni | E6: Nominativo
B7: 46266 | C7: 46387 | D7: =DAYS360(B7,C7,FALSE) -> 120 | E7: Mario Rossi
D8: =DAYS360(B8,C8,FALSE) -> 0
D9: =DAYS360(B9,C9,FALSE) -> 0
D10: =DAYS360(B10,C10,FALSE) -> 0
D11: =SUM(D7:D10) -> 120
B13: Indennità Variabile | C13: CALCOLO QUOTA VARIABILE
C14: a) Azienda agraria | H14: 0 | I14: 1342 | K14: =ROUND(H14*I14,2) -> 0
C15: b) Convitti ed educandati annessi | H15: 0 | I15: 902 | K15: =ROUND(H15*I15,2) -> 0
C16: c) Istituti verticalizzati ed istituti con almeno due punti di erogazione del servizio scolastico, istituti di secondo grado aggregati e istituti tecnici, professionali e d'arte con laboratori e/o reparti di lavorazione | H16: 1 | I16: 825 | K16: =ROUND(H16*I16,2) -> 825
C17: d) Istituzioni non rientranti nelle tipologie di cui alla lettera c) | H17: 0 | I17: 715 | K17: =ROUND(H17*I17,2) -> 0
C18: e) Complessità organizzativa valore unitario da moltiplicare per il numero del personale docente e ATA in organico di diritto | H18: 100 | I18: 34.5 | K18: =ROUND(H18*I18,2) -> 3450
C19: TOT. QUOTA VARIABILE LORDO DIP. | K19: =ROUND(K14+K15+K16+K17+K18,2) -> 4275
C20: CALCOLO QUOTA FISSA
B21: Indennità Fissa | C21: Quota fissa spettante al D.S.G.A. | K21: 3031.9
C22: Compenso individuale accessorio Assistente Amministrativo | H22: 97.8 | I22: x | J22: 12 | K22: =H22*J22 -> 1173.6
C23: TOTALE QUOTA FISSA LORDO DIP. | K23: =K21-K22 -> 1858.3
C24: TOTALE INDENNITA' DI DIREZIONE A.S. 2025/26 | K24: =K19+K23 -> 6133.3
E27: Indennità variabile spettante al DSGA | G27: =K19 -> 4275 | H27: +
E28: Eventuali nr giorni di riduzione indennità | F28: 0 | G28: =(G27/360)*F28 -> 0 | H28: -
E29: Totale indennità variabile DSGA Titolare | G29: =G27-G28 -> 4275 | H29: =
E31: Indennità di Direzione parte variabile | G31: =G26+G27 -> 4275
E32: Indennità fissa Sostituto DSGA | G32: =(K23/360)*D11 -> 619.43333 | H32: su | I32: =D11 -> 120 | J32: giorni
E33: Indennità variabile Sostituto DSGA | G33: =(G27/360)*D11 -> 1425 | H33: su | I33: =D11 -> 120 | J33: giorni
E34: Indennità spettante al Sostituto DSGA | G34: =G32+G33 -> 2044.4333
E36: indennità variabile spettante al DSGA | G36: =G27 -> 4275
E37: Totale indennità DSGA + Sostituto DSGA | G37: =G29+G34 -> 6319.4333
E38: totale iniziale accantonato | G38: =G29 -> 4275
E39: totale indennità DSGA da percepire | G39: =G36 -> 4275 | H39: -
E40: totale indennità sost. DSGA da perc. | G40: =G34 -> 2044.4333 | H40: -
E41: Economie (se in difetto, attendere fondi dopo rilevazione) | G41: =G38-G39-G40 -> -2044.4333 | H41: =
B44: CALCOLO COMPENSI INDENNITA' DI FUNZIONI SUPERIORI SOSTITUTO DSGA
B45: PROFILO | D45: FASCIA | G45: STIPENDIO MENSILE
B46: Funzionario EQ | D46: 0-8 | G46: =Dati!H20 -> 2211.4408
B47: Assistente Amministrativo | D47: 15-20 | G47: =IF(D47=Dati!C20,(Dati!E20),IF(D47=Dati!C21,(Dati!E21),IF(D47=Dati!C22,(Dati!E22),IF(D47=Dati!C23,(Dati!E23),IF(D47=Dati!C24,(Dati!E24),IF(D47=Dati!C25,(Dati!E25),0)))))) -> 1978.5975
A48: + | B48: Differenza stipendiale | G48: =G46-G47 -> 232.84333 | H48: mensile
...

Sheet anno 2027
B1: CALCOLO COMPENSI INDENNITA' DI DIREZIONE DSGA E SOSTITUTO DSGA | H1: ANNO 2027
B2: Aggiornato al CCNL Scuola 2025/27 - Nota MIM prot nr 18529 del 12/05/2025 - scenario 2 e 5
B3: Su posto non vacante e disponibile
B5: SOSTITUZIONE
B6: data inizio | C6: data fine | D6: giorni | E6: Nominativo
B7: 46388 | C7: 46630 | D7: =DAYS360(B7,C7,FALSE) -> 240 | E7: Mario Rossi
D8: =DAYS360(B8,C8,FALSE) -> 0
D9: =DAYS360(B9,C9,FALSE) -> 0
D10: =DAYS360(B10,C10,FALSE) -> 0
D11: =SUM(D7:D10) -> 240
B13: Indennità Variabile | C13: CALCOLO QUOTA VARIABILE
C14: a) Azienda agraria | H14: 0 | I14: 1342 | K14: =ROUND(H14*I14,2) -> 0
C15: b) Convitti ed educandati annessi | H15: 0 | I15: 902 | K15: =ROUND(H15*I15,2) -> 0
C16: c) Istituti verticalizzati ed istituti con almeno due punti di erogazione del servizio scolastico, istituti di secondo grado aggregati e istituti tecnici, professionali e d'arte con laboratori e/o reparti di lavorazione | H16: 1 | I16: 825 | K16: =ROUND(H16*I16,2) -> 825
C17: d) Istituzioni non rientranti nelle tipologie di cui alla lettera c) | H17: 0 | I17: 715 | K17: =ROUND(H17*I17,2) -> 0
C18: e) Complessità organizzativa valore unitario da moltiplicare per il numero del personale docente e ATA in organico di diritto | H18: 100 | I18: 34.5 | K18: =ROUND(H18*I18,2) -> 3450
C19: TOT. QUOTA VARIABILE LORDO DIP. | K19: =ROUND(K14+K15+K16+K17+K18,2) -> 4275
C20: CALCOLO QUOTA FISSA
B21: Indennità Fissa | C21: Quota fissa spettante al D.S.G.A. | K21: 3229
C22: Compenso individuale accessorio Assistente Amministrativo | H22: 104.2 | I22: x | J22: 12 | K22: =H22*J22 -> 1250.4
C23: TOTALE QUOTA FISSA LORDO DIP. | K23: =K21-K22 -> 1978.6
C24: TOTALE INDENNITA' DI DIREZIONE A.S. 2025/26 | K24: =K19+K23 -> 6253.6
E27: Indennità variabile spettante al DSGA | G27: =K19 -> 4275 | H27: +
E28: Eventuali nr giorni di riduzione indennità | F28: 0 | G28: =(G27/360)*F28 -> 0 | H28: -
E29: Totale indennità variabile DSGA Titolare | G29: =G27-G28 -> 4275 | H29: =
E31: Indennità di Direzione parte variabile | G31: =G26+G27 -> 4275
E32: Indennità fissa Sostituto DSGA | G32: =(K23/360)*D11 -> 1319.0667 | H32: su | I32: =D11 -> 240 | J32: giorni
E33: Indennità variabile Sostituto DSGA | G33: =(G27/360)*D11 -> 2850 | H33: su | I33: =D11 -> 240 | J33: giorni
E34: Indennità spettante al Sostituto DSGA | G34: =G32+G33 -> 4169.0667
E36: indennità variabile spettante al DSGA | G36: =G27 -> 4275
E37: Totale indennità DSGA + Sostituto DSGA | G37: =G29+G34 -> 8444.0667
E38: totale iniziale accantonato | G38: =G29 -> 4275
E39: totale indennità DSGA da percepire | G39: =G36 -> 4275 | H39: -
E40: totale indennità sost. DSGA da perc. | G40: =G34 -> 4169.0667 | H40: -
E41: Economie (se in difetto, attendere fondi dopo rilevazione) | G41: =G38-G39-G40 -> -4169.0667 | H41: =
B44: CALCOLO COMPENSI INDENNITA' DI FUNZIONI SUPERIORI SOSTITUTO DSGA
B45: PROFILO | D45: FASCIA | G45: STIPENDIO MENSILE
B46: Funzionario EQ | D46: 0-8 | G46: =Dati!H5 -> 2249.2608
B47: Assistente Amministrativo | D47: 15-20 | G47: =IF(D47=Dati!C5,(Dati!E5),IF(D47=Dati!C6,(Dati!E6),IF(D47=Dati!C7,(Dati!E7),IF(D47=Dati!C8,(Dati!E8),IF(D47=Dati!C9,(Dati!E9),IF(D47=Dati!C10,(Dati!E10),0)))))) -> 2012.4375
A48: + | B48: Differenza stipendiale | G48: =G46-G47 -> 236.82333 | H48: mensile
...

Sheet RIEPILOGO
A2: RIEPILOGO COMPENSI INDENNITA' DI DIREZIONE DSGA E SOSTITUTO DSGA
B3: A.S. 2026/2027
B5: RIEPILOGO DSGA TITOLARE A.S. 2026/27 | C5: INDENNITA'
B6: Indennità Variabile da corrispondere al DSGA Titolare a.s. 2026/27 | C6: =IF('anno 2026'!K19=0,'anno 2027'!K19,'anno 2026'!K19) -> 4275
B8: RIEPILOGO SOSTITUTO DSGA A.S. 2026/27 | C8: INDENNITA'
B9: Indennità Fissa + variabile Sostituto DSGA a.s. 2026/27 | C9: ='anno 2026'!G34+'anno 2027'!G34 -> 6213.5
B10: Indennità di funzioni superiori Sostituto DSGA a.s. 2026/27 | C10: ='anno 2026'!G52+'anno 2027'!G52 -> 3061.4567
B11: Totale indennità da corrispondere al Sostituto DSGA a.s. 2026/27 | C11: =C9+C10 -> 9274.9567
B13: Totale da accontonare nel FIS A.S. 2026/27 | C13: =C6+C11 -> 13549.957

Sheet Dati
F2: ANNO 2027
C3: AMMINISTRATIVO | F3: FUNZIONARIO EQ | I3: INDENNITA' FUNZIONE SUPERIORE
C4: FASCIA | D4: RETRIBUZIONE ANNUALE | E4: RETRIBUZIONE MENSILE | F4: FASCIA | G4: RETRIBUZIONE ANNUALE | H4: RETRIBUZIONE MENSILE | I4: IND. ANNUALE | J4: IND. GIORNALIERA
C5: 0-8 | D5: 20606.44 | E5: =D5/12 -> 1717.2033 | F5: 0-8 | G5: 26991.13 | H5: =G5/12 -> 2249.2608 | I5: =G5-D5 -> 6384.69 | J5: =I5/360 -> 17.73525
C6: 9-14 | D6: 22623.52 | E6: =D6/12 -> 1885.2933 | F6: 0-8 | G6: 30098.12 | H6: =G6/12 -> 2508.1767 | I6: =G6-D6 -> 7474.6 | J6: =I6/360 -> 20.762778
C7: 15-20 | D7: 24149.25 | E7: =D7/12 -> 2012.4375 | F7: 0-8 | G7: 32868.04 | H7: =G7/12 -> 2739.0033 | I7: =G7-D7 -> 8718.79 | J7: =I7/360 -> 24.218861
C8: 21-27 | D8: 25656.42 | E8: =D8/12 -> 2138.035 | F8: 0-8 | G8: 35832.41 | H8: =G8/12 -> 2986.0342 | I8: =G8-D8 -> 10175.99 | J8: =I8/360 -> 28.266639
C9: 28-34 | D9: 26748.58 | E9: =D9/12 -> 2229.0483 | F9: 0-8 | G9: 38923.09 | H9: =G9/12 -> 3243.5908 | I9: =G9-D9 -> 12174.51 | J9: =I9/360 -> 33.818083
C10: da 35 | D10: 27586.61 | E10: =D10/12 -> 2298.8842 | F10: 0-8 | G10: 41935.22 | H10: =G10/12 -> 3494.6017 | I10: =G10-D10 -> 14348.61 | J10: =I10/360 -> 39.85725
D12: BENEFICIARIO DI | E12: RETRIBUZIONE | F12: /13
D13: No | E13: 0 | F13: 0
D14: 1° | E14: 1300 | F14: =E14/12 -> 108.33333
D15: 2° | E15: 2000 | F15: =E15/12 -> 166.66667
F17: ANNO 2026
C18: AMMINISTRATIVO | F18: FUNZIONARIO EQ | I18: INDENNITA' FUNZIONE SUPERIORE
C19: FASCIA | D19: RETRIBUZIONE ANNUALE | E19: RETRIBUZIONE MENSILE | F19: FASCIA | G19: RETRIBUZIONE ANNUALE | H19: RETRIBUZIONE MENSILE | I19: IND. ANNUALE | J19: IND. GIORNALIERA
C20: 0-8 | D20: 20260 | E20: =D20/12 -> 1688.3333 | F20: 0-8 | G20: 26537.29 | H20: =G20/12 -> 2211.4408 | I20: =G20-D20 -> 6277.29 | J20: =I20/360 -> 17.436917
C21: 9-14 | D21: 22243.12 | E21: =D21/12 -> 1853.5933 | F21: 0-8 | G21: 29592.08 | H21: =G21/12 -> 2466.0067 | I21: =G21-D21 -> 7348.96 | J21: =I21/360 -> 20.413778
C22: 15-20 | D22: 23743.17 | E22: =D22/12 -> 1978.5975 | F22: 0-8 | G22: 32315.44 | H22: =G22/12 -> 2692.9533 | I22: =G22-D22 -> 8572.27 | J22: =I22/360 -> 23.811861
C23: 21-27 | D23: 25225.02 | E23: =D23/12 -> 2102.085 | F23: 0-8 | G23: 35229.89 | H23: =G23/12 -> 2935.8242 | I23: =G23-D23 -> 10004.87 | J23: =I23/360 -> 27.791306
C24: 28-34 | D24: 26298.82 | E24: =D24/12 -> 2191.5683 | F24: 0-8 | G24: 38268.61 | H24: =G24/12 -> 3189.0508 | I24: =G24-D24 -> 11969.79 | J24: =I24/360 -> 33.249417
C25: da 35 | D25: 27122.69 | E25: =D25/12 -> 2260.2242 | F25: 0-8 | G25: 41230.1 | H25: =G25/12 -> 3435.8417 | I25: =G25-D25 -> 14107.41 | J25: =I25/360 -> 39.18725
D27: BENEFICIARIO DI | E27: RETRIBUZIONE | F27: /13
D28: No | E28: 0 | F28: 0
D29: 1° | E29: 1300 | F29: =E29/12 -> 108.33333
D30: 2° | E30: 2000 | F30: =E30/12 -> 166.66667
